BEGIN:VCALENDAR
VERSION:2.0
PRODID:-//La Terminal  Fábrica de Industria cultural y creativa en Zorrotzaurre - ECPv6.6.2//NONSGML v1.0//EN
CALSCALE:GREGORIAN
METHOD:PUBLISH
X-WR-CALNAME:La Terminal  Fábrica de Industria cultural y creativa en Zorrotzaurre
X-ORIGINAL-URL:https://laterminal.eus
X-WR-CALDESC:Eventos para La Terminal  Fábrica de Industria cultural y creativa en Zorrotzaurre
REFRESH-INTERVAL;VALUE=DURATION:PT1H
X-Robots-Tag:noindex
X-PUBLISHED-TTL:PT1H
BEGIN:VTIMEZONE
TZID:Europe/Madrid
BEGIN:DAYLIGHT
TZOFFSETFROM:+0100
TZOFFSETTO:+0200
TZNAME:CEST
DTSTART:20230326T010000
END:DAYLIGHT
BEGIN:STANDARD
TZOFFSETFROM:+0200
TZOFFSETTO:+0100
TZNAME:CET
DTSTART:20231029T010000
END:STANDARD
END:VTIMEZONE
BEGIN:VEVENT
DTSTART;TZID=Europe/Madrid:20231118T090000
DTEND;TZID=Europe/Madrid:20231118T133000
DTSTAMP:20260421T085632
CREATED:20231102T131708Z
LAST-MODIFIED:20231102T131734Z
UID:1139-1700298000-1700314200@laterminal.eus
SUMMARY:TALLER COMUNICACIÓN
DESCRIPTION:¿Te gustaría mejorar tu comunicación con los demás y contigo mismo? \n¿Quieres aprender a expresarte con claridad\, confianza y empatía? \n¿Te interesa conocer las herramientas que te ofrece la Programación Neurolingüística (PNL) para potenciar tu comunicación? \nSi has respondido que sí a alguna de estas preguntas\, te invitamos a participar en nuestro taller. \nEn este taller aprenderás a: \n\nIdentificar tu estilo de comunicación y el de los demás.\nAdaptar tu lenguaje verbal y no verbal a cada situación y persona.\nUtilizar algunas técnicas de PNL para influir positivamente en tus conversaciones.\n\nPara inscribirte al taller o solicitar más información\, puedes contactarnos por teléfono 613 46 89 94 o por correo electrónico en contacto@esenciasutan.com \nNo dejes pasar esta oportunidad de mejorar tu comunicación con la PNL.
URL:https://laterminal.eus/evento/taller-comunicacion
LOCATION:La Calde\, Calle Pintor Ignacio Zuloaga 9\, Bilbao\, Bizkaia\, 48014\, España
CATEGORIES:Taller
ATTACH;FMTTYPE=image/png:https://laterminal.eus/wp-content/uploads/2023/11/Taller_corto.png
ORGANIZER;CN="Carlos DLV":MAILTO:contacto@esenciasutan.com
END:VEVENT
END:VCALENDAR